BEGIN:VCALENDAR
VERSION:2.0
PRODID:-//Stadtmission Offenbach - ECPv6.15.20//NONSGML v1.0//EN
CALSCALE:GREGORIAN
METHOD:PUBLISH
X-WR-CALNAME:Stadtmission Offenbach
X-ORIGINAL-URL:https://stadtmission-offenbach.de
X-WR-CALDESC:Veranstaltungen für Stadtmission Offenbach
REFRESH-INTERVAL;VALUE=DURATION:PT1H
X-Robots-Tag:noindex
X-PUBLISHED-TTL:PT1H
BEGIN:VTIMEZONE
TZID:Europe/Berlin
BEGIN:DAYLIGHT
TZOFFSETFROM:+0100
TZOFFSETTO:+0200
TZNAME:CEST
DTSTART:20220327T010000
END:DAYLIGHT
BEGIN:STANDARD
TZOFFSETFROM:+0200
TZOFFSETTO:+0100
TZNAME:CET
DTSTART:20221030T010000
END:STANDARD
BEGIN:DAYLIGHT
TZOFFSETFROM:+0100
TZOFFSETTO:+0200
TZNAME:CEST
DTSTART:20230326T010000
END:DAYLIGHT
BEGIN:STANDARD
TZOFFSETFROM:+0200
TZOFFSETTO:+0100
TZNAME:CET
DTSTART:20231029T010000
END:STANDARD
BEGIN:DAYLIGHT
TZOFFSETFROM:+0100
TZOFFSETTO:+0200
TZNAME:CEST
DTSTART:20240331T010000
END:DAYLIGHT
BEGIN:STANDARD
TZOFFSETFROM:+0200
TZOFFSETTO:+0100
TZNAME:CET
DTSTART:20241027T010000
END:STANDARD
END:VTIMEZONE
BEGIN:VEVENT
DTSTART;TZID=Europe/Berlin:20230425T190000
DTEND;TZID=Europe/Berlin:20230425T210000
DTSTAMP:20260420T153636
CREATED:20230202T174741Z
LAST-MODIFIED:20230401T194535Z
UID:7903-1682449200-1682456400@stadtmission-offenbach.de
SUMMARY:Nähkreis und Kreativtreffen
DESCRIPTION:Ausnahmsweise am vierten Dienstag (25.04.) treffen wir uns um 19 Uhr zum Nähen. Wer Lust hat\, bringt sein Nähprojekt (Material\, Nähmaschine\, Verlängerungskabel) einfach mit und näht mit uns. Es sind auch alle herzlich eingeladen\, die ein anderes kreatives Projekt umsetzen wollen: basteln\, stricken oder häkeln in gemütlicher Atmosphäre! Zur besseren Planung bitte am Veranstaltungstag bis 17 Uhr anmelden.\nKontakt: Ingrid Müller (ingrid-gesa-mueller@gmx.de)
URL:https://stadtmission-offenbach.de/veranstaltung/frauennaehkreis-2023-04-25/
LOCATION:Stadtmission Offenbach e.V.\, Waldstr. 36\, 63065 Offenbach
CATEGORIES:Nähkreis
ATTACH;FMTTYPE=image/jpeg:https://stadtmission-offenbach.de/wp-content/uploads/2021/11/Naehen.jpg
END:VEVENT
END:VCALENDAR