BEGIN:VCALENDAR
VERSION:2.0
PRODID:-//Stadtmission Offenbach - ECPv6.15.20//NONSGML v1.0//EN
CALSCALE:GREGORIAN
METHOD:PUBLISH
X-WR-CALNAME:Stadtmission Offenbach
X-ORIGINAL-URL:https://stadtmission-offenbach.de
X-WR-CALDESC:Veranstaltungen für Stadtmission Offenbach
REFRESH-INTERVAL;VALUE=DURATION:PT1H
X-Robots-Tag:noindex
X-PUBLISHED-TTL:PT1H
BEGIN:VTIMEZONE
TZID:Europe/Berlin
BEGIN:DAYLIGHT
TZOFFSETFROM:+0100
TZOFFSETTO:+0200
TZNAME:CEST
DTSTART:20240331T010000
END:DAYLIGHT
BEGIN:STANDARD
TZOFFSETFROM:+0200
TZOFFSETTO:+0100
TZNAME:CET
DTSTART:20241027T010000
END:STANDARD
BEGIN:DAYLIGHT
TZOFFSETFROM:+0100
TZOFFSETTO:+0200
TZNAME:CEST
DTSTART:20250330T010000
END:DAYLIGHT
BEGIN:STANDARD
TZOFFSETFROM:+0200
TZOFFSETTO:+0100
TZNAME:CET
DTSTART:20251026T010000
END:STANDARD
BEGIN:DAYLIGHT
TZOFFSETFROM:+0100
TZOFFSETTO:+0200
TZNAME:CEST
DTSTART:20260329T010000
END:DAYLIGHT
BEGIN:STANDARD
TZOFFSETFROM:+0200
TZOFFSETTO:+0100
TZNAME:CET
DTSTART:20261025T010000
END:STANDARD
END:VTIMEZONE
BEGIN:VEVENT
DTSTART;TZID=Europe/Berlin:20250322T100000
DTEND;TZID=Europe/Berlin:20250322T150000
DTSTAMP:20260421T191725
CREATED:20250214T151037Z
LAST-MODIFIED:20250214T151037Z
UID:9086-1742637600-1742655600@stadtmission-offenbach.de
SUMMARY:Gesund beten statt gesundbeten - Seminar mit Christof Lenzen
DESCRIPTION:Werden wir mal ehrlich. Für die meisten von uns ist Gebet kein Abenteuer mehr. Das geistliche Leben mehr oder weniger Routine. \nDabei sollte es anders sein… Christof Lenzen möchte mit uns auf Spurensuche gehen und dabei auch praktisch werden: Was blockiert unser Gebetsleben? Kann es sein\, dass wir die Blockaden noch gar nicht entdeckt haben (Spoiler: ja)? Dürfen wir denn überhaupt alles hinterfragen und wenn ja\, wo führt das hin? Wie könnte eine echte (Neu-)Entwicklung im Gebet aussehen? \nDarum soll es in zwei Impulse und einer Predigt gehen. Wir dürfen mit allem rechnen\, nur nicht mit allzu einfachen\, immer schon gehörten Antworten. Es wird spannend! \n  \nChristof Lenzen ist Ehemann und Papa\, seit über 20 Jahren Theologe und Pastor und seit Januar Geschäftsführer des Christlichen Hilfsbunds im Orient. Seine Leidenschaft sind die Themen Seelsorge und geistliches Leben\, dazu schreibt er in den sozialen Medien und in zahlreichen Veröffentlichungen.
URL:https://stadtmission-offenbach.de/veranstaltung/gesund-beten-statt-gesundbeten-seminar-mit-christof-lenzen/
LOCATION:Stadtmission Offenbach e.V.\, Waldstr. 36\, 63065 Offenbach
ATTACH;FMTTYPE=image/png:https://stadtmission-offenbach.de/wp-content/uploads/2025/02/2.png
END:VEVENT
END:VCALENDAR