BEGIN:VCALENDAR
VERSION:2.0
PRODID:-//Stadtmission Offenbach - ECPv6.15.20//NONSGML v1.0//EN
CALSCALE:GREGORIAN
METHOD:PUBLISH
X-WR-CALNAME:Stadtmission Offenbach
X-ORIGINAL-URL:https://stadtmission-offenbach.de
X-WR-CALDESC:Veranstaltungen für Stadtmission Offenbach
REFRESH-INTERVAL;VALUE=DURATION:PT1H
X-Robots-Tag:noindex
X-PUBLISHED-TTL:PT1H
BEGIN:VTIMEZONE
TZID:Europe/Berlin
BEGIN:DAYLIGHT
TZOFFSETFROM:+0100
TZOFFSETTO:+0200
TZNAME:CEST
DTSTART:20220327T010000
END:DAYLIGHT
BEGIN:STANDARD
TZOFFSETFROM:+0200
TZOFFSETTO:+0100
TZNAME:CET
DTSTART:20221030T010000
END:STANDARD
BEGIN:DAYLIGHT
TZOFFSETFROM:+0100
TZOFFSETTO:+0200
TZNAME:CEST
DTSTART:20230326T010000
END:DAYLIGHT
BEGIN:STANDARD
TZOFFSETFROM:+0200
TZOFFSETTO:+0100
TZNAME:CET
DTSTART:20231029T010000
END:STANDARD
BEGIN:DAYLIGHT
TZOFFSETFROM:+0100
TZOFFSETTO:+0200
TZNAME:CEST
DTSTART:20240331T010000
END:DAYLIGHT
BEGIN:STANDARD
TZOFFSETFROM:+0200
TZOFFSETTO:+0100
TZNAME:CET
DTSTART:20241027T010000
END:STANDARD
END:VTIMEZONE
BEGIN:VEVENT
DTSTART;TZID=Europe/Berlin:20230610T093000
DTEND;TZID=Europe/Berlin:20230610T150000
DTSTAMP:20260421T121251
CREATED:20230608T075635Z
LAST-MODIFIED:20230608T075933Z
UID:8156-1686389400-1686409200@stadtmission-offenbach.de
SUMMARY:Männer!Frühstück!OnTour!
DESCRIPTION:Liebe Männer\, \nfalls Ihr es noch nicht mitbekommen habt\, es ist wieder Stadtradeln in Offenbach und wir sind mit einem Team der Arbeitsgemeinschaft Christlicher Kirchen in Offenbach dabei! Anmeldung hier: Anmeldung ACK-Radler \nUm gemeinsam möglichst viele Kilometer für unser Team zu sammeln\, wollen wir beim Männer!Frühstück! am kommenden Samstag eine gemeinsam Radtour unternehmen. Die Tour wird ungefähr 20 Kilometer lang und es wird unterwegs die Möglichkeit geben\, eine Bratwurst oder ein Eis zu kaufen\, falls der mitgebrachte Proviant nicht ausreicht. Denkt vor allem an genügend Trinkwasser für unterwegs! \nUnser Treffpunkt ist um 09:30 Uhr an der Stami in der Waldstr. 36\, von dort brechen wir nach einer kurzen Kontrolle der mitgebrachten Fahrzeuge auf in Richtung Offenbacher Stadtwald und wollen auch am Goetheturm vorbeifahren. Nach dem Wiederaufbau können wir von dort den Blick in Richtung Offenbach genießen\, bevor wir uns wieder auf den (kürzeren) Heimweg machen. \nIn der Stami sind auch noch einige Fahrradständer zu montieren\, wer nach der Tour noch Energie hat\, darf sich hier gerne mit einbringen. \nViele Grüße & bis Samstag\,\nMartin
URL:https://stadtmission-offenbach.de/veranstaltung/maennerfruehstueckontour/
LOCATION:Stadtmission Offenbach e.V.\, Waldstr. 36\, 63065 Offenbach
CATEGORIES:Männerfrühstück
ATTACH;FMTTYPE=image/jpeg:https://stadtmission-offenbach.de/wp-content/uploads/2023/06/motorbike-g74f6b0d98_1280.jpg
END:VEVENT
END:VCALENDAR