BEGIN:VCALENDAR
VERSION:2.0
PRODID:-//Stadtmission Offenbach - ECPv6.15.20//NONSGML v1.0//EN
CALSCALE:GREGORIAN
METHOD:PUBLISH
X-ORIGINAL-URL:https://stadtmission-offenbach.de
X-WR-CALDESC:Veranstaltungen für Stadtmission Offenbach
REFRESH-INTERVAL;VALUE=DURATION:PT1H
X-Robots-Tag:noindex
X-PUBLISHED-TTL:PT1H
BEGIN:VTIMEZONE
TZID:Europe/Berlin
BEGIN:DAYLIGHT
TZOFFSETFROM:+0100
TZOFFSETTO:+0200
TZNAME:CEST
DTSTART:20230326T010000
END:DAYLIGHT
BEGIN:STANDARD
TZOFFSETFROM:+0200
TZOFFSETTO:+0100
TZNAME:CET
DTSTART:20231029T010000
END:STANDARD
BEGIN:DAYLIGHT
TZOFFSETFROM:+0100
TZOFFSETTO:+0200
TZNAME:CEST
DTSTART:20240331T010000
END:DAYLIGHT
BEGIN:STANDARD
TZOFFSETFROM:+0200
TZOFFSETTO:+0100
TZNAME:CET
DTSTART:20241027T010000
END:STANDARD
BEGIN:DAYLIGHT
TZOFFSETFROM:+0100
TZOFFSETTO:+0200
TZNAME:CEST
DTSTART:20250330T010000
END:DAYLIGHT
BEGIN:STANDARD
TZOFFSETFROM:+0200
TZOFFSETTO:+0100
TZNAME:CET
DTSTART:20251026T010000
END:STANDARD
END:VTIMEZONE
BEGIN:VEVENT
DTSTART;TZID=Europe/Berlin:20240907T080000
DTEND;TZID=Europe/Berlin:20240914T170000
DTSTAMP:20260421T121548
CREATED:20240724T143459Z
LAST-MODIFIED:20240724T143459Z
UID:8685-1725696000-1726333200@stadtmission-offenbach.de
SUMMARY:Männerwandern in den Alpen
DESCRIPTION:Vom 7. bis zum 14. September sind alle Männer eingeladen auf eine alpine Wanderreise nach Österreich aufzubrechen. Bei Interesse schreib eine Mail an Kontakt – Stadtmission Offenbach (stadtmission-offenbach.de).
URL:https://stadtmission-offenbach.de/veranstaltung/maennerwandern-in-den-alpen/
LOCATION:Österreich\, Österreich
CATEGORIES:Aktion,Männerfrühstück
ATTACH;FMTTYPE=image/jpeg:https://stadtmission-offenbach.de/wp-content/uploads/2021/12/Loslaufen.jpg
END:VEVENT
BEGIN:VEVENT
DTSTART;TZID=Europe/Berlin:20240907T100000
DTEND;TZID=Europe/Berlin:20240907T123000
DTSTAMP:20260421T121548
CREATED:20240724T140906Z
LAST-MODIFIED:20240724T143733Z
UID:8667-1725703200-1725712200@stadtmission-offenbach.de
SUMMARY:Waldstraßenbande
DESCRIPTION:Nachdem wir im August Ferien gemacht haben\, freuen wir uns euch in diesem Monat wiederzusehen! \nInfos zur Waldstraßenbande findest du hier \nAllgemeine Info: Wir treffen uns in der Regel nicht in den Ferien. Möchtest du mehr Infos\, dann schreib eine Nachricht an Kontakt – Stadtmission Offenbach (stadtmission-offenbach.de).
URL:https://stadtmission-offenbach.de/veranstaltung/waldstrassenbande-2024-09-07-2/
LOCATION:Käsmühle Offenbach\, Dietesheimer Straße 408\, Offenbach\, 63073
CATEGORIES:Gruppe,Waldstraßenbande
ATTACH;FMTTYPE=image/jpeg:https://stadtmission-offenbach.de/wp-content/uploads/2021/09/girl-1746286_1920.jpg
END:VEVENT
BEGIN:VEVENT
DTSTART;TZID=Europe/Berlin:20240907T183000
DTEND;TZID=Europe/Berlin:20240907T210000
DTSTAMP:20260421T121548
CREATED:20240726T103125Z
LAST-MODIFIED:20240726T103125Z
UID:8724-1725733800-1725742800@stadtmission-offenbach.de
SUMMARY:Sing & Pray
DESCRIPTION:Wir veranstalten gemeinsam mit der KaS (Kirche am Start) und der Initiative “Offenbach betet” einen musikalischen\nAnbetungsabend. Er findet in den Räumlichkeiten der KaS statt (Bismarckstraße 70\, Hinterhaus).
URL:https://stadtmission-offenbach.de/veranstaltung/sing-pray/
LOCATION:Kirche am Start\, Bismarkstr. 7o\, Offenbach\, Deutschland
CATEGORIES:Aktion,Einmalig
ATTACH;FMTTYPE=image/jpeg:https://stadtmission-offenbach.de/wp-content/uploads/2021/09/Gitarre.jpg
END:VEVENT
END:VCALENDAR