BEGIN:VCALENDAR
VERSION:2.0
PRODID:-//Stadtmission Offenbach - ECPv6.15.20//NONSGML v1.0//EN
CALSCALE:GREGORIAN
METHOD:PUBLISH
X-WR-CALNAME:Stadtmission Offenbach
X-ORIGINAL-URL:https://stadtmission-offenbach.de
X-WR-CALDESC:Veranstaltungen für Stadtmission Offenbach
REFRESH-INTERVAL;VALUE=DURATION:PT1H
X-Robots-Tag:noindex
X-PUBLISHED-TTL:PT1H
BEGIN:VTIMEZONE
TZID:Europe/Berlin
BEGIN:DAYLIGHT
TZOFFSETFROM:+0100
TZOFFSETTO:+0200
TZNAME:CEST
DTSTART:20240331T010000
END:DAYLIGHT
BEGIN:STANDARD
TZOFFSETFROM:+0200
TZOFFSETTO:+0100
TZNAME:CET
DTSTART:20241027T010000
END:STANDARD
BEGIN:DAYLIGHT
TZOFFSETFROM:+0100
TZOFFSETTO:+0200
TZNAME:CEST
DTSTART:20250330T010000
END:DAYLIGHT
BEGIN:STANDARD
TZOFFSETFROM:+0200
TZOFFSETTO:+0100
TZNAME:CET
DTSTART:20251026T010000
END:STANDARD
BEGIN:DAYLIGHT
TZOFFSETFROM:+0100
TZOFFSETTO:+0200
TZNAME:CEST
DTSTART:20260329T010000
END:DAYLIGHT
BEGIN:STANDARD
TZOFFSETFROM:+0200
TZOFFSETTO:+0100
TZNAME:CET
DTSTART:20261025T010000
END:STANDARD
END:VTIMEZONE
BEGIN:VEVENT
DTSTART;TZID=Europe/Berlin:20250126T100000
DTEND;TZID=Europe/Berlin:20250126T113000
DTSTAMP:20260421T153122
CREATED:20241211T140610Z
LAST-MODIFIED:20250110T092927Z
UID:8955-1737885600-1737891000@stadtmission-offenbach.de
SUMMARY:Kunterbunter Gottesdienst mit bring&share-Mittagessen
DESCRIPTION:  \nZum Online-Gottesdienst
URL:https://stadtmission-offenbach.de/veranstaltung/gottesdienst-8/
LOCATION:Stadtmission Offenbach e.V.\, Waldstr. 36\, 63065 Offenbach
CATEGORIES:Gottesdienst
ATTACH;FMTTYPE=image/jpeg:https://stadtmission-offenbach.de/wp-content/uploads/2023/07/IMG_1242-scaled.jpeg
END:VEVENT
END:VCALENDAR