BEGIN:VCALENDAR
VERSION:2.0
PRODID:-//Stadtmission Offenbach - ECPv6.15.20//NONSGML v1.0//EN
CALSCALE:GREGORIAN
METHOD:PUBLISH
X-WR-CALNAME:Stadtmission Offenbach
X-ORIGINAL-URL:https://stadtmission-offenbach.de
X-WR-CALDESC:Veranstaltungen für Stadtmission Offenbach
REFRESH-INTERVAL;VALUE=DURATION:PT1H
X-Robots-Tag:noindex
X-PUBLISHED-TTL:PT1H
BEGIN:VTIMEZONE
TZID:Europe/Berlin
BEGIN:DAYLIGHT
TZOFFSETFROM:+0100
TZOFFSETTO:+0200
TZNAME:CEST
DTSTART:20220327T010000
END:DAYLIGHT
BEGIN:STANDARD
TZOFFSETFROM:+0200
TZOFFSETTO:+0100
TZNAME:CET
DTSTART:20221030T010000
END:STANDARD
BEGIN:DAYLIGHT
TZOFFSETFROM:+0100
TZOFFSETTO:+0200
TZNAME:CEST
DTSTART:20230326T010000
END:DAYLIGHT
BEGIN:STANDARD
TZOFFSETFROM:+0200
TZOFFSETTO:+0100
TZNAME:CET
DTSTART:20231029T010000
END:STANDARD
BEGIN:DAYLIGHT
TZOFFSETFROM:+0100
TZOFFSETTO:+0200
TZNAME:CEST
DTSTART:20240331T010000
END:DAYLIGHT
BEGIN:STANDARD
TZOFFSETFROM:+0200
TZOFFSETTO:+0100
TZNAME:CET
DTSTART:20241027T010000
END:STANDARD
END:VTIMEZONE
BEGIN:VEVENT
DTSTART;TZID=Europe/Berlin:20230506T160000
DTEND;TZID=Europe/Berlin:20230506T183000
DTSTAMP:20260423T122146
CREATED:20230401T195546Z
LAST-MODIFIED:20230401T195727Z
UID:8038-1683388800-1683397800@stadtmission-offenbach.de
SUMMARY:Mitgliederversammlung
DESCRIPTION:Am Samstag\, den 6. Mai findet von 16-18:30 Uhr unsere alljährliche Mitgliederversammlung statt. Auch Gäste sind willkommen. Unter anderem werden wir einen Schriftführer wählen.
URL:https://stadtmission-offenbach.de/veranstaltung/mitgliederversammlung-2023-05-06/
LOCATION:Stadtmission Offenbach e.V.\, Waldstr. 36\, 63065 Offenbach
CATEGORIES:Einmalig
ATTACH;FMTTYPE=image/png:https://stadtmission-offenbach.de/wp-content/uploads/2022/05/Versammlung.png
END:VEVENT
BEGIN:VEVENT
DTSTART;TZID=Europe/Berlin:20230507T100000
DTEND;TZID=Europe/Berlin:20230507T113000
DTSTAMP:20260423T122146
CREATED:20230401T191857Z
LAST-MODIFIED:20230401T193740Z
UID:8003-1683453600-1683459000@stadtmission-offenbach.de
SUMMARY:EGHN-Jubiläumsgottesdienst
DESCRIPTION:Am 7. Mai starten wir um 10 Uhr mit einem Jubiläumsgottesdienst\, der live aus dem Friedenshof in Kassel per YouTube in unsere Gemeinde übertragen wird. Im Anschluss wollen wir gemeinsam grillen. \nKollekte: EGHN e.V. \nZum Online-Gottesdienst
URL:https://stadtmission-offenbach.de/veranstaltung/gottesdienst-2023-05-07/
LOCATION:Stadtmission Offenbach e.V.\, Waldstr. 36\, 63065 Offenbach
CATEGORIES:Gottesdienst
ATTACH;FMTTYPE=image/jpeg:https://stadtmission-offenbach.de/wp-content/uploads/2023/04/happy-mothers-day-g3a6b10dfa_1920.jpg
END:VEVENT
BEGIN:VEVENT
DTSTART;TZID=Europe/Berlin:20230514T100000
DTEND;TZID=Europe/Berlin:20230514T113000
DTSTAMP:20260423T122146
CREATED:20230401T192659Z
LAST-MODIFIED:20230401T192910Z
UID:8007-1684058400-1684063800@stadtmission-offenbach.de
SUMMARY:Gottesdienst
DESCRIPTION:Predigt: Mickey Wiese \nKollekte: Kinderspeisung in Peru \nZum Online-Gottesdienst
URL:https://stadtmission-offenbach.de/veranstaltung/gottesdienst-2023-05-14/
LOCATION:Stadtmission Offenbach e.V.\, Waldstr. 36\, 63065 Offenbach
CATEGORIES:Gottesdienst
ATTACH;FMTTYPE=image/jpeg:https://stadtmission-offenbach.de/wp-content/uploads/2021/05/gottesdienst_5.jpg
END:VEVENT
BEGIN:VEVENT
DTSTART;TZID=Europe/Berlin:20230514T100000
DTEND;TZID=Europe/Berlin:20230514T113000
DTSTAMP:20260423T122146
CREATED:20230523T191312Z
LAST-MODIFIED:20230523T191443Z
UID:8116-1684058400-1684063800@stadtmission-offenbach.de
SUMMARY:Gottesdienst
DESCRIPTION:Predigt: Mickey Wiese \nKollekte: Frontiers e.V. \nZum Online-Gottesdienst
URL:https://stadtmission-offenbach.de/veranstaltung/gottesdienst-2023-06-11/
LOCATION:Stadtmission Offenbach e.V.\, Waldstr. 36\, 63065 Offenbach
CATEGORIES:Gottesdienst
ATTACH;FMTTYPE=image/jpeg:https://stadtmission-offenbach.de/wp-content/uploads/2021/05/gottesdienst_5.jpg
END:VEVENT
BEGIN:VEVENT
DTSTART;VALUE=DATE:20230521
DTEND;VALUE=DATE:20230522
DTSTAMP:20260423T122146
CREATED:20230426T184903Z
LAST-MODIFIED:20230426T185301Z
UID:8055-1684627200-1684713599@stadtmission-offenbach.de
SUMMARY:Familienwandertag
DESCRIPTION:Weitere Informationen demnächst hier und im aktuellen Newsletter.
URL:https://stadtmission-offenbach.de/veranstaltung/familienwanderung-2023-05-21/
LOCATION:Stadtmission Offenbach e.V.\, Waldstr. 36\, 63065 Offenbach
CATEGORIES:Gottesdienst
ATTACH;FMTTYPE=image/jpeg:https://stadtmission-offenbach.de/wp-content/uploads/2023/04/family-g450688a1c_1920.jpg
END:VEVENT
BEGIN:VEVENT
DTSTART;TZID=Europe/Berlin:20230528T100000
DTEND;TZID=Europe/Berlin:20230528T113000
DTSTAMP:20260423T122146
CREATED:20230401T193007Z
LAST-MODIFIED:20230401T193446Z
UID:8011-1685268000-1685273400@stadtmission-offenbach.de
SUMMARY:Pfingstsonntagsgottesdienst
DESCRIPTION:Predigt: Johannes Westhoff \nKollekte: Wein e.V. \nZum Online-Gottesdienst
URL:https://stadtmission-offenbach.de/veranstaltung/gottesdienst-2023-05-28/
LOCATION:Stadtmission Offenbach e.V.\, Waldstr. 36\, 63065 Offenbach
CATEGORIES:Gottesdienst
ATTACH;FMTTYPE=image/jpeg:https://stadtmission-offenbach.de/wp-content/uploads/2023/04/dove-g93ff2b3cb_1920.jpg
END:VEVENT
END:VCALENDAR