BEGIN:VCALENDAR
VERSION:2.0
PRODID:-//Stadtmission Offenbach - ECPv6.15.20//NONSGML v1.0//EN
CALSCALE:GREGORIAN
METHOD:PUBLISH
X-WR-CALNAME:Stadtmission Offenbach
X-ORIGINAL-URL:https://stadtmission-offenbach.de
X-WR-CALDESC:Veranstaltungen für Stadtmission Offenbach
REFRESH-INTERVAL;VALUE=DURATION:PT1H
X-Robots-Tag:noindex
X-PUBLISHED-TTL:PT1H
BEGIN:VTIMEZONE
TZID:Europe/Berlin
BEGIN:DAYLIGHT
TZOFFSETFROM:+0100
TZOFFSETTO:+0200
TZNAME:CEST
DTSTART:20220327T010000
END:DAYLIGHT
BEGIN:STANDARD
TZOFFSETFROM:+0200
TZOFFSETTO:+0100
TZNAME:CET
DTSTART:20221030T010000
END:STANDARD
BEGIN:DAYLIGHT
TZOFFSETFROM:+0100
TZOFFSETTO:+0200
TZNAME:CEST
DTSTART:20230326T010000
END:DAYLIGHT
BEGIN:STANDARD
TZOFFSETFROM:+0200
TZOFFSETTO:+0100
TZNAME:CET
DTSTART:20231029T010000
END:STANDARD
BEGIN:DAYLIGHT
TZOFFSETFROM:+0100
TZOFFSETTO:+0200
TZNAME:CEST
DTSTART:20240331T010000
END:DAYLIGHT
BEGIN:STANDARD
TZOFFSETFROM:+0200
TZOFFSETTO:+0100
TZNAME:CET
DTSTART:20241027T010000
END:STANDARD
END:VTIMEZONE
BEGIN:VEVENT
DTSTART;TZID=Europe/Berlin:20230604T103000
DTEND;TZID=Europe/Berlin:20230604T120000
DTSTAMP:20260421T110451
CREATED:20230523T190811Z
LAST-MODIFIED:20230603T200728Z
UID:8111-1685874600-1685880000@stadtmission-offenbach.de
SUMMARY:Konfirmationsgottesdienst
DESCRIPTION:Predigt: Hendrik Westhoff \nKollekte: Kinderspeisung in Peru \nZum Online-Gottesdienst
URL:https://stadtmission-offenbach.de/veranstaltung/gottesdienst-2023-06-04/
LOCATION:Stadtmission Offenbach e.V.\, Waldstr. 36\, 63065 Offenbach
CATEGORIES:Gottesdienst
ATTACH;FMTTYPE=image/jpeg:https://stadtmission-offenbach.de/wp-content/uploads/2021/09/church-4293120_1920.jpg
END:VEVENT
BEGIN:VEVENT
DTSTART;TZID=Europe/Berlin:20230610T093000
DTEND;TZID=Europe/Berlin:20230610T150000
DTSTAMP:20260421T110451
CREATED:20230608T075635Z
LAST-MODIFIED:20230608T075933Z
UID:8156-1686389400-1686409200@stadtmission-offenbach.de
SUMMARY:Männer!Frühstück!OnTour!
DESCRIPTION:Liebe Männer\, \nfalls Ihr es noch nicht mitbekommen habt\, es ist wieder Stadtradeln in Offenbach und wir sind mit einem Team der Arbeitsgemeinschaft Christlicher Kirchen in Offenbach dabei! Anmeldung hier: Anmeldung ACK-Radler \nUm gemeinsam möglichst viele Kilometer für unser Team zu sammeln\, wollen wir beim Männer!Frühstück! am kommenden Samstag eine gemeinsam Radtour unternehmen. Die Tour wird ungefähr 20 Kilometer lang und es wird unterwegs die Möglichkeit geben\, eine Bratwurst oder ein Eis zu kaufen\, falls der mitgebrachte Proviant nicht ausreicht. Denkt vor allem an genügend Trinkwasser für unterwegs! \nUnser Treffpunkt ist um 09:30 Uhr an der Stami in der Waldstr. 36\, von dort brechen wir nach einer kurzen Kontrolle der mitgebrachten Fahrzeuge auf in Richtung Offenbacher Stadtwald und wollen auch am Goetheturm vorbeifahren. Nach dem Wiederaufbau können wir von dort den Blick in Richtung Offenbach genießen\, bevor wir uns wieder auf den (kürzeren) Heimweg machen. \nIn der Stami sind auch noch einige Fahrradständer zu montieren\, wer nach der Tour noch Energie hat\, darf sich hier gerne mit einbringen. \nViele Grüße & bis Samstag\,\nMartin
URL:https://stadtmission-offenbach.de/veranstaltung/maennerfruehstueckontour/
LOCATION:Stadtmission Offenbach e.V.\, Waldstr. 36\, 63065 Offenbach
CATEGORIES:Männerfrühstück
ATTACH;FMTTYPE=image/jpeg:https://stadtmission-offenbach.de/wp-content/uploads/2023/06/motorbike-g74f6b0d98_1280.jpg
END:VEVENT
BEGIN:VEVENT
DTSTART;TZID=Europe/Berlin:20230611T100000
DTEND;TZID=Europe/Berlin:20230611T113000
DTSTAMP:20260421T110451
CREATED:20230608T080030Z
LAST-MODIFIED:20230608T080242Z
UID:8163-1686477600-1686483000@stadtmission-offenbach.de
SUMMARY:Gottesdienst
DESCRIPTION:Predigt: Mickey Wiese \nKollekte: Frontiers e.V. \nZum Online-Gottesdienst
URL:https://stadtmission-offenbach.de/veranstaltung/gottesdienst-2023-06-11-2/
LOCATION:Stadtmission Offenbach e.V.\, Waldstr. 36\, 63065 Offenbach
CATEGORIES:Gottesdienst
ATTACH;FMTTYPE=image/jpeg:https://stadtmission-offenbach.de/wp-content/uploads/2021/05/gottesdienst_5.jpg
END:VEVENT
BEGIN:VEVENT
DTSTART;TZID=Europe/Berlin:20230618T103000
DTEND;TZID=Europe/Berlin:20230618T190000
DTSTAMP:20260421T110451
CREATED:20230523T191515Z
LAST-MODIFIED:20230611T092813Z
UID:8119-1687084200-1687114800@stadtmission-offenbach.de
SUMMARY:Mainuferfest
DESCRIPTION:Am Samstag\, 17.\, und Sonntag\, 18. Juni\, findet wieder das Mainuferfest statt. Im Rahmen des Festes wird es am Sonntag um 10.30 Uhr am Kirchturm der ehemaligen Schlosskirche (Kirchgasse) einen ökumenischen Gottesdienst geben. Wir werden als StaMi daran teilnehmen\, da es für uns eine großartige Chance ist\, wahrgenommen zu werden. Deshalb wird es bei uns in der StaMi am 18. Juni keinen Gottesdienst geben.\nZum Fest der Vereine am Mainufer und im Kulturkarree rund um den Bernardbau präsentieren rund 100 Vereine und Initiativen sich und die gelebte Vielfalt der Stadt aus 158 Nationen auf der Festmeile und mit einem abwechslungsreichen Rahmenprogramm.
URL:https://stadtmission-offenbach.de/veranstaltung/mainuferfest-2023-06-18/
LOCATION:Stadtmission Offenbach e.V.\, Waldstr. 36\, 63065 Offenbach
CATEGORIES:Aktion
ATTACH;FMTTYPE=image/jpeg:https://stadtmission-offenbach.de/wp-content/uploads/2022/05/Main.jpg
END:VEVENT
BEGIN:VEVENT
DTSTART;VALUE=DATE:20230623
DTEND;VALUE=DATE:20230626
DTSTAMP:20260421T110451
CREATED:20230523T192323Z
LAST-MODIFIED:20230523T192729Z
UID:8122-1687478400-1687737599@stadtmission-offenbach.de
SUMMARY:Vater-Kind-Zelten
DESCRIPTION:Endlich ist es wieder soweit! Vom 23.–25. Juni 2023 fahren wir zu „unserem“ Zeltplatz nach Breitenbrunn in den Spessart . Herzliche Einladung an alle Kinder mit ihren Papas\, Opas oder Onkels zu einer kurzen und intensiven Auszeit. Weitere Infos und Anmeldung bei Martin Grölz.
URL:https://stadtmission-offenbach.de/veranstaltung/vater-kind-zelten-2023-06-23/
LOCATION:Stadtmission Offenbach e.V.\, Waldstr. 36\, 63065 Offenbach
CATEGORIES:Aktion
ATTACH;FMTTYPE=image/jpeg:https://stadtmission-offenbach.de/wp-content/uploads/2022/05/Zelten.jpg
END:VEVENT
BEGIN:VEVENT
DTSTART;TZID=Europe/Berlin:20230625T100000
DTEND;TZID=Europe/Berlin:20230625T113000
DTSTAMP:20260421T110451
CREATED:20230411T061612Z
LAST-MODIFIED:20230612T194619Z
UID:8052-1687687200-1687692600@stadtmission-offenbach.de
SUMMARY:Gottesdienst
DESCRIPTION:  \nZum Online-Gottesdienst
URL:https://stadtmission-offenbach.de/veranstaltung/gottesdienst-3/
LOCATION:Stadtmission Offenbach e.V.\, Waldstr. 36\, 63065 Offenbach
CATEGORIES:Gottesdienst
ATTACH;FMTTYPE=image/jpeg:https://stadtmission-offenbach.de/wp-content/uploads/2021/05/gottesdienst_5.jpg
END:VEVENT
END:VCALENDAR