BEGIN:VCALENDAR
VERSION:2.0
PRODID:-//Stadtmission Offenbach - ECPv6.15.20//NONSGML v1.0//EN
CALSCALE:GREGORIAN
METHOD:PUBLISH
X-WR-CALNAME:Stadtmission Offenbach
X-ORIGINAL-URL:https://stadtmission-offenbach.de
X-WR-CALDESC:Veranstaltungen für Stadtmission Offenbach
REFRESH-INTERVAL;VALUE=DURATION:PT1H
X-Robots-Tag:noindex
X-PUBLISHED-TTL:PT1H
BEGIN:VTIMEZONE
TZID:Europe/Berlin
BEGIN:DAYLIGHT
TZOFFSETFROM:+0100
TZOFFSETTO:+0200
TZNAME:CEST
DTSTART:20220327T010000
END:DAYLIGHT
BEGIN:STANDARD
TZOFFSETFROM:+0200
TZOFFSETTO:+0100
TZNAME:CET
DTSTART:20221030T010000
END:STANDARD
BEGIN:DAYLIGHT
TZOFFSETFROM:+0100
TZOFFSETTO:+0200
TZNAME:CEST
DTSTART:20230326T010000
END:DAYLIGHT
BEGIN:STANDARD
TZOFFSETFROM:+0200
TZOFFSETTO:+0100
TZNAME:CET
DTSTART:20231029T010000
END:STANDARD
BEGIN:DAYLIGHT
TZOFFSETFROM:+0100
TZOFFSETTO:+0200
TZNAME:CEST
DTSTART:20240331T010000
END:DAYLIGHT
BEGIN:STANDARD
TZOFFSETFROM:+0200
TZOFFSETTO:+0100
TZNAME:CET
DTSTART:20241027T010000
END:STANDARD
BEGIN:DAYLIGHT
TZOFFSETFROM:+0100
TZOFFSETTO:+0200
TZNAME:CEST
DTSTART:20250330T010000
END:DAYLIGHT
BEGIN:STANDARD
TZOFFSETFROM:+0200
TZOFFSETTO:+0100
TZNAME:CET
DTSTART:20251026T010000
END:STANDARD
BEGIN:DAYLIGHT
TZOFFSETFROM:+0100
TZOFFSETTO:+0200
TZNAME:CEST
DTSTART:20260329T010000
END:DAYLIGHT
BEGIN:STANDARD
TZOFFSETFROM:+0200
TZOFFSETTO:+0100
TZNAME:CET
DTSTART:20261025T010000
END:STANDARD
END:VTIMEZONE
BEGIN:VEVENT
DTSTART;TZID=Europe/Berlin:20250201T100000
DTEND;TZID=Europe/Berlin:20250201T123000
DTSTAMP:20260421T153208
CREATED:20241218T140809Z
LAST-MODIFIED:20250424T105942Z
UID:8975-1738404000-1738413000@stadtmission-offenbach.de
SUMMARY:Waldstraßenbande
DESCRIPTION:Wann & Wo? \nImmer am 1. Samstagvormittag im Monat vor der Käsmühle (Dietesheimer Str. 408\, 63073 Offenbach). \nVon Mai-Oktober treffen wir uns von 10-12 Uhr\, von November bis April von 10:30-12 Uhr. \nDu kannst auch vom Jumpers-Hof (Waldstraße 36) aus mitfahren. (Bitte anmelden – pastoren@stadtmission-offenbach.de) \nWir freuen uns euch in diesem Monat zu sehen! \n  \nInfos zur Waldstraßenbande findest du hier \nAllgemeine Info: Wir treffen uns in der Regel nicht in den Ferien. Möchtest du mehr Infos\, dann schreib eine Nachricht an Kontakt – Stadtmission Offenbach (stadtmission-offenbach.de).
URL:https://stadtmission-offenbach.de/veranstaltung/waldstrassenbande-2/
LOCATION:Käsmühle Offenbach\, Dietesheimer Straße 408\, Offenbach\, 63073
CATEGORIES:Gruppe,Waldstraßenbande
ATTACH;FMTTYPE=image/jpeg:https://stadtmission-offenbach.de/wp-content/uploads/2021/09/girl-1746286_1920.jpg
END:VEVENT
BEGIN:VEVENT
DTSTART;TZID=Europe/Berlin:20250202T100000
DTEND;TZID=Europe/Berlin:20250202T113000
DTSTAMP:20260421T153208
CREATED:20250110T092204Z
LAST-MODIFIED:20250110T092205Z
UID:9018-1738490400-1738495800@stadtmission-offenbach.de
SUMMARY:Theatergottesdienst mit Romina Mallwitz
DESCRIPTION:  \nZum Online-Gottesdienst
URL:https://stadtmission-offenbach.de/veranstaltung/gottesdienste-2-2-2-2-5/
LOCATION:Stadtmission Offenbach e.V.\, Waldstr. 36\, 63065 Offenbach
CATEGORIES:Gottesdienst
ATTACH;FMTTYPE=image/jpeg:https://stadtmission-offenbach.de/wp-content/uploads/2021/05/gottesdienst_5.jpg
END:VEVENT
BEGIN:VEVENT
DTSTART;TZID=Europe/Berlin:20250203T113000
DTEND;TZID=Europe/Berlin:20250203T140000
DTSTAMP:20260421T153208
CREATED:20240717T134709Z
LAST-MODIFIED:20240717T134709Z
UID:8591-1738582200-1738591200@stadtmission-offenbach.de
SUMMARY:Essen und Wärme
DESCRIPTION:Einlass ab 11:30 Uhr \nEssensausgabe ab 12:30 Uhr \n 
URL:https://stadtmission-offenbach.de/veranstaltung/essen-und-waerme-2/
CATEGORIES:Aktion
END:VEVENT
BEGIN:VEVENT
DTSTART;TZID=Europe/Berlin:20250203T113000
DTEND;TZID=Europe/Berlin:20250203T140000
DTSTAMP:20260421T153208
CREATED:20240717T134709Z
LAST-MODIFIED:20240717T134709Z
UID:8591-1738582200-1738591200@stadtmission-offenbach.de
SUMMARY:Essen und Wärme
DESCRIPTION:Einlass ab 11:30 Uhr \nEssensausgabe ab 12:30 Uhr \n 
URL:https://stadtmission-offenbach.de/veranstaltung/essen-und-waerme-2/
CATEGORIES:Aktion
END:VEVENT
BEGIN:VEVENT
DTSTART;TZID=Europe/Berlin:20231129T093000
DTEND;TZID=Europe/Berlin:20231129T110000
DTSTAMP:20260421T153208
CREATED:20231123T180819Z
LAST-MODIFIED:20231123T181755Z
UID:8378-1701250200-1701255600@stadtmission-offenbach.de
SUMMARY:Morgengebet
DESCRIPTION:Herzliche Einladung zum Gebet. Immer mittwochs um 9:30 Uhr. Gebetsanliegen (Dank/Fürbitte) bitte bis dienstagabends an mich senden. \nVielen Dank\,\nGerda (gerdabruegge@gmail.com)
URL:https://stadtmission-offenbach.de/veranstaltung/morgengebet-2021-12-22-copy-3/
LOCATION:Stadtmission Offenbach e.V.\, Waldstr. 36\, 63065 Offenbach
CATEGORIES:Gebet und Lobpreis
ATTACH;FMTTYPE=image/jpeg:https://stadtmission-offenbach.de/wp-content/uploads/2021/09/holding-hands-752878_1920.jpg
END:VEVENT
BEGIN:VEVENT
DTSTART;TZID=Europe/Berlin:20250203T113000
DTEND;TZID=Europe/Berlin:20250203T140000
DTSTAMP:20260421T153208
CREATED:20240717T134709Z
LAST-MODIFIED:20240717T134709Z
UID:8591-1738582200-1738591200@stadtmission-offenbach.de
SUMMARY:Essen und Wärme
DESCRIPTION:Einlass ab 11:30 Uhr \nEssensausgabe ab 12:30 Uhr \n 
URL:https://stadtmission-offenbach.de/veranstaltung/essen-und-waerme-2/
CATEGORIES:Aktion
END:VEVENT
BEGIN:VEVENT
DTSTART;TZID=Europe/Berlin:20250115T154500
DTEND;TZID=Europe/Berlin:20250115T163000
DTSTAMP:20260421T153208
CREATED:20250110T092336Z
LAST-MODIFIED:20250110T092337Z
UID:9023-1736955900-1736958600@stadtmission-offenbach.de
SUMMARY:Musik für Kids
DESCRIPTION:Wir wollen zusammen singen\, Instrumente ausprobieren\, kreativ sein und spielen. \nAltersgruppe 3-6 Jahre alt. \nDa die Plätze begrenzt sind\, bitte vorher anmelden.
URL:https://stadtmission-offenbach.de/veranstaltung/musik-fuer-kids-2024-04-24-2-2-2-2/
LOCATION:Stadtmission Offenbach e.V.\, Waldstr. 36\, 63065 Offenbach
CATEGORIES:Gruppe,Musik
ATTACH;FMTTYPE=image/jpeg:https://stadtmission-offenbach.de/wp-content/uploads/2024/01/pexels-karolina-grabowska-8909671-scaled.jpg
END:VEVENT
BEGIN:VEVENT
DTSTART;TZID=Europe/Berlin:20231129T180000
DTEND;TZID=Europe/Berlin:20231129T193000
DTSTAMP:20260421T153208
CREATED:20231123T181006Z
LAST-MODIFIED:20231123T181618Z
UID:8382-1701280800-1701286200@stadtmission-offenbach.de
SUMMARY:Blaues Kreuz Treffen
DESCRIPTION:Hier treffen sich suchtkranke Menschen in der Selbsthilfegruppe.
URL:https://stadtmission-offenbach.de/veranstaltung/blaues-kreuz-treffen-3/
LOCATION:Stadtmission Offenbach e.V.\, Waldstr. 36\, 63065 Offenbach
CATEGORIES:Gruppe
ATTACH;FMTTYPE=image/png:https://stadtmission-offenbach.de/wp-content/uploads/2021/09/hands-1939895_1920.png
END:VEVENT
BEGIN:VEVENT
DTSTART;TZID=Europe/Berlin:20241204T183000
DTEND;TZID=Europe/Berlin:20241204T200000
DTSTAMP:20260421T153208
CREATED:20241203T210918Z
LAST-MODIFIED:20241203T210919Z
UID:8925-1733337000-1733342400@stadtmission-offenbach.de
SUMMARY:Vokalensemble
DESCRIPTION:Erlebe den Klang der Gemeinschaft. Wachse mit anderen zusammen und über dich hinaus. \nRaum: Kleiner Saal (erste Tür links\, steht offen\, immer den Ohren nach)
URL:https://stadtmission-offenbach.de/veranstaltung/vokalensemble-2-2/
LOCATION:Stadtmission Offenbach e.V.\, Waldstr. 36\, 63065 Offenbach
ATTACH;FMTTYPE=image/png:https://stadtmission-offenbach.de/wp-content/uploads/2024/07/StaMi-Vocalensemble-e1721830467434.png
END:VEVENT
BEGIN:VEVENT
DTSTART;TZID=Europe/Berlin:20250203T113000
DTEND;TZID=Europe/Berlin:20250203T140000
DTSTAMP:20260421T153208
CREATED:20240717T134709Z
LAST-MODIFIED:20240717T134709Z
UID:8591-1738582200-1738591200@stadtmission-offenbach.de
SUMMARY:Essen und Wärme
DESCRIPTION:Einlass ab 11:30 Uhr \nEssensausgabe ab 12:30 Uhr \n 
URL:https://stadtmission-offenbach.de/veranstaltung/essen-und-waerme-2/
CATEGORIES:Aktion
END:VEVENT
BEGIN:VEVENT
DTSTART;TZID=Europe/Berlin:20231130T150000
DTEND;TZID=Europe/Berlin:20231130T170000
DTSTAMP:20260421T153208
CREATED:20231004T134546Z
LAST-MODIFIED:20231123T182238Z
UID:8329-1701356400-1701363600@stadtmission-offenbach.de
SUMMARY:Bibelgesprächskreis
DESCRIPTION:Das Bibelgespräch findet immer am Donnerstag um 15 Uhr statt: \n\n02.11. „Dei Macht der Zunge“\, Jakobus 3\,1-18 \n09.11. „Christliche Gemeinde -eine heile Welt?“\, Jakobus 4\,1-17 \n16.11. „Wert schätzen\, was Wert hat“\, Jakobus 5\,1-20 \n23.11. „Bloß nichts verpassen?!“\, Matthäus 24\,15 – 28 \n30.11. „Das Endgericht“\, Matthäus 25\,31 – 46 \n\nKontakt: bibel@stadtmission-offenbach.de
URL:https://stadtmission-offenbach.de/veranstaltung/bibelgespraechskreis-2022-01-13-2-2/
LOCATION:Stadtmission Offenbach e.V.\, Waldstr. 36\, 63065 Offenbach
CATEGORIES:Gruppe
ATTACH;FMTTYPE=image/jpeg:https://stadtmission-offenbach.de/wp-content/uploads/2021/09/book-1209805_1920.jpg
END:VEVENT
BEGIN:VEVENT
DTSTART;TZID=Europe/Berlin:20250203T113000
DTEND;TZID=Europe/Berlin:20250203T140000
DTSTAMP:20260421T153208
CREATED:20240717T134709Z
LAST-MODIFIED:20240717T134709Z
UID:8591-1738582200-1738591200@stadtmission-offenbach.de
SUMMARY:Essen und Wärme
DESCRIPTION:Einlass ab 11:30 Uhr \nEssensausgabe ab 12:30 Uhr \n 
URL:https://stadtmission-offenbach.de/veranstaltung/essen-und-waerme-2/
CATEGORIES:Aktion
END:VEVENT
BEGIN:VEVENT
DTSTART;TZID=Europe/Berlin:20250203T113000
DTEND;TZID=Europe/Berlin:20250203T140000
DTSTAMP:20260421T153208
CREATED:20240717T134709Z
LAST-MODIFIED:20240717T134709Z
UID:8591-1738582200-1738591200@stadtmission-offenbach.de
SUMMARY:Essen und Wärme
DESCRIPTION:Einlass ab 11:30 Uhr \nEssensausgabe ab 12:30 Uhr \n 
URL:https://stadtmission-offenbach.de/veranstaltung/essen-und-waerme-2/
CATEGORIES:Aktion
END:VEVENT
BEGIN:VEVENT
DTSTART;TZID=Europe/Berlin:20250209T100000
DTEND;TZID=Europe/Berlin:20250209T113000
DTSTAMP:20260421T153208
CREATED:20250110T091919Z
LAST-MODIFIED:20250110T092112Z
UID:9014-1739095200-1739100600@stadtmission-offenbach.de
SUMMARY:Gottesdienst mit Abendmahl
DESCRIPTION:  \nZum Online-Gottesdienst
URL:https://stadtmission-offenbach.de/veranstaltung/gottesdienste-2-2-2-2-4/
LOCATION:Stadtmission Offenbach e.V.\, Waldstr. 36\, 63065 Offenbach
CATEGORIES:Gottesdienst
ATTACH;FMTTYPE=image/jpeg:https://stadtmission-offenbach.de/wp-content/uploads/2021/12/Abendmahl.jpg
END:VEVENT
BEGIN:VEVENT
DTSTART;TZID=Europe/Berlin:20250203T113000
DTEND;TZID=Europe/Berlin:20250203T140000
DTSTAMP:20260421T153208
CREATED:20240717T134709Z
LAST-MODIFIED:20240717T134709Z
UID:8591-1738582200-1738591200@stadtmission-offenbach.de
SUMMARY:Essen und Wärme
DESCRIPTION:Einlass ab 11:30 Uhr \nEssensausgabe ab 12:30 Uhr \n 
URL:https://stadtmission-offenbach.de/veranstaltung/essen-und-waerme-2/
CATEGORIES:Aktion
END:VEVENT
BEGIN:VEVENT
DTSTART;TZID=Europe/Berlin:20250203T113000
DTEND;TZID=Europe/Berlin:20250203T140000
DTSTAMP:20260421T153208
CREATED:20240717T134709Z
LAST-MODIFIED:20240717T134709Z
UID:8591-1738582200-1738591200@stadtmission-offenbach.de
SUMMARY:Essen und Wärme
DESCRIPTION:Einlass ab 11:30 Uhr \nEssensausgabe ab 12:30 Uhr \n 
URL:https://stadtmission-offenbach.de/veranstaltung/essen-und-waerme-2/
CATEGORIES:Aktion
END:VEVENT
BEGIN:VEVENT
DTSTART;TZID=Europe/Berlin:20250203T113000
DTEND;TZID=Europe/Berlin:20250203T140000
DTSTAMP:20260421T153208
CREATED:20240717T134709Z
LAST-MODIFIED:20240717T134709Z
UID:8591-1738582200-1738591200@stadtmission-offenbach.de
SUMMARY:Essen und Wärme
DESCRIPTION:Einlass ab 11:30 Uhr \nEssensausgabe ab 12:30 Uhr \n 
URL:https://stadtmission-offenbach.de/veranstaltung/essen-und-waerme-2/
CATEGORIES:Aktion
END:VEVENT
BEGIN:VEVENT
DTSTART;TZID=Europe/Berlin:20240813T190000
DTEND;TZID=Europe/Berlin:20240813T203000
DTSTAMP:20260421T153208
CREATED:20240726T102253Z
LAST-MODIFIED:20240726T102451Z
UID:8719-1723575600-1723581000@stadtmission-offenbach.de
SUMMARY:Näh- und Kreativtreff
DESCRIPTION:Wir treffen uns\, um gemeinsam unsere Kreativität auszuleben. Bring einfach dein aktuelles Projekt mit. Zur besseren Planung bitte am\nVeranstaltungstag bis 17 Uhr anmelden. \nKontakt: kreativ@stadtmission-offenbach.de
URL:https://stadtmission-offenbach.de/veranstaltung/naeh-und-kreativtreff/
LOCATION:Stadtmission Offenbach e.V.\, Waldstr. 36\, 63065 Offenbach
CATEGORIES:Aktion,Gruppe
ATTACH;FMTTYPE=image/jpeg:https://stadtmission-offenbach.de/wp-content/uploads/2024/03/pexels-leeloo-the-first-6487206-scaled.jpg
END:VEVENT
BEGIN:VEVENT
DTSTART;TZID=Europe/Berlin:20231129T093000
DTEND;TZID=Europe/Berlin:20231129T110000
DTSTAMP:20260421T153208
CREATED:20231123T180819Z
LAST-MODIFIED:20231123T181755Z
UID:8378-1701250200-1701255600@stadtmission-offenbach.de
SUMMARY:Morgengebet
DESCRIPTION:Herzliche Einladung zum Gebet. Immer mittwochs um 9:30 Uhr. Gebetsanliegen (Dank/Fürbitte) bitte bis dienstagabends an mich senden. \nVielen Dank\,\nGerda (gerdabruegge@gmail.com)
URL:https://stadtmission-offenbach.de/veranstaltung/morgengebet-2021-12-22-copy-3/
LOCATION:Stadtmission Offenbach e.V.\, Waldstr. 36\, 63065 Offenbach
CATEGORIES:Gebet und Lobpreis
ATTACH;FMTTYPE=image/jpeg:https://stadtmission-offenbach.de/wp-content/uploads/2021/09/holding-hands-752878_1920.jpg
END:VEVENT
BEGIN:VEVENT
DTSTART;TZID=Europe/Berlin:20250203T113000
DTEND;TZID=Europe/Berlin:20250203T140000
DTSTAMP:20260421T153208
CREATED:20240717T134709Z
LAST-MODIFIED:20240717T134709Z
UID:8591-1738582200-1738591200@stadtmission-offenbach.de
SUMMARY:Essen und Wärme
DESCRIPTION:Einlass ab 11:30 Uhr \nEssensausgabe ab 12:30 Uhr \n 
URL:https://stadtmission-offenbach.de/veranstaltung/essen-und-waerme-2/
CATEGORIES:Aktion
END:VEVENT
BEGIN:VEVENT
DTSTART;TZID=Europe/Berlin:20250115T154500
DTEND;TZID=Europe/Berlin:20250115T163000
DTSTAMP:20260421T153208
CREATED:20250110T092336Z
LAST-MODIFIED:20250110T092337Z
UID:9023-1736955900-1736958600@stadtmission-offenbach.de
SUMMARY:Musik für Kids
DESCRIPTION:Wir wollen zusammen singen\, Instrumente ausprobieren\, kreativ sein und spielen. \nAltersgruppe 3-6 Jahre alt. \nDa die Plätze begrenzt sind\, bitte vorher anmelden.
URL:https://stadtmission-offenbach.de/veranstaltung/musik-fuer-kids-2024-04-24-2-2-2-2/
LOCATION:Stadtmission Offenbach e.V.\, Waldstr. 36\, 63065 Offenbach
CATEGORIES:Gruppe,Musik
ATTACH;FMTTYPE=image/jpeg:https://stadtmission-offenbach.de/wp-content/uploads/2024/01/pexels-karolina-grabowska-8909671-scaled.jpg
END:VEVENT
BEGIN:VEVENT
DTSTART;TZID=Europe/Berlin:20231129T180000
DTEND;TZID=Europe/Berlin:20231129T193000
DTSTAMP:20260421T153208
CREATED:20231123T181006Z
LAST-MODIFIED:20231123T181618Z
UID:8382-1701280800-1701286200@stadtmission-offenbach.de
SUMMARY:Blaues Kreuz Treffen
DESCRIPTION:Hier treffen sich suchtkranke Menschen in der Selbsthilfegruppe.
URL:https://stadtmission-offenbach.de/veranstaltung/blaues-kreuz-treffen-3/
LOCATION:Stadtmission Offenbach e.V.\, Waldstr. 36\, 63065 Offenbach
CATEGORIES:Gruppe
ATTACH;FMTTYPE=image/png:https://stadtmission-offenbach.de/wp-content/uploads/2021/09/hands-1939895_1920.png
END:VEVENT
BEGIN:VEVENT
DTSTART;TZID=Europe/Berlin:20241204T183000
DTEND;TZID=Europe/Berlin:20241204T200000
DTSTAMP:20260421T153208
CREATED:20241203T210918Z
LAST-MODIFIED:20241203T210919Z
UID:8925-1733337000-1733342400@stadtmission-offenbach.de
SUMMARY:Vokalensemble
DESCRIPTION:Erlebe den Klang der Gemeinschaft. Wachse mit anderen zusammen und über dich hinaus. \nRaum: Kleiner Saal (erste Tür links\, steht offen\, immer den Ohren nach)
URL:https://stadtmission-offenbach.de/veranstaltung/vokalensemble-2-2/
LOCATION:Stadtmission Offenbach e.V.\, Waldstr. 36\, 63065 Offenbach
ATTACH;FMTTYPE=image/png:https://stadtmission-offenbach.de/wp-content/uploads/2024/07/StaMi-Vocalensemble-e1721830467434.png
END:VEVENT
BEGIN:VEVENT
DTSTART;TZID=Europe/Berlin:20250203T113000
DTEND;TZID=Europe/Berlin:20250203T140000
DTSTAMP:20260421T153208
CREATED:20240717T134709Z
LAST-MODIFIED:20240717T134709Z
UID:8591-1738582200-1738591200@stadtmission-offenbach.de
SUMMARY:Essen und Wärme
DESCRIPTION:Einlass ab 11:30 Uhr \nEssensausgabe ab 12:30 Uhr \n 
URL:https://stadtmission-offenbach.de/veranstaltung/essen-und-waerme-2/
CATEGORIES:Aktion
END:VEVENT
BEGIN:VEVENT
DTSTART;TZID=Europe/Berlin:20231130T150000
DTEND;TZID=Europe/Berlin:20231130T170000
DTSTAMP:20260421T153208
CREATED:20231004T134546Z
LAST-MODIFIED:20231123T182238Z
UID:8329-1701356400-1701363600@stadtmission-offenbach.de
SUMMARY:Bibelgesprächskreis
DESCRIPTION:Das Bibelgespräch findet immer am Donnerstag um 15 Uhr statt: \n\n02.11. „Dei Macht der Zunge“\, Jakobus 3\,1-18 \n09.11. „Christliche Gemeinde -eine heile Welt?“\, Jakobus 4\,1-17 \n16.11. „Wert schätzen\, was Wert hat“\, Jakobus 5\,1-20 \n23.11. „Bloß nichts verpassen?!“\, Matthäus 24\,15 – 28 \n30.11. „Das Endgericht“\, Matthäus 25\,31 – 46 \n\nKontakt: bibel@stadtmission-offenbach.de
URL:https://stadtmission-offenbach.de/veranstaltung/bibelgespraechskreis-2022-01-13-2-2/
LOCATION:Stadtmission Offenbach e.V.\, Waldstr. 36\, 63065 Offenbach
CATEGORIES:Gruppe
ATTACH;FMTTYPE=image/jpeg:https://stadtmission-offenbach.de/wp-content/uploads/2021/09/book-1209805_1920.jpg
END:VEVENT
BEGIN:VEVENT
DTSTART;TZID=Europe/Berlin:20250203T113000
DTEND;TZID=Europe/Berlin:20250203T140000
DTSTAMP:20260421T153208
CREATED:20240717T134709Z
LAST-MODIFIED:20240717T134709Z
UID:8591-1738582200-1738591200@stadtmission-offenbach.de
SUMMARY:Essen und Wärme
DESCRIPTION:Einlass ab 11:30 Uhr \nEssensausgabe ab 12:30 Uhr \n 
URL:https://stadtmission-offenbach.de/veranstaltung/essen-und-waerme-2/
CATEGORIES:Aktion
END:VEVENT
BEGIN:VEVENT
DTSTART;TZID=Europe/Berlin:20231129T093000
DTEND;TZID=Europe/Berlin:20231129T110000
DTSTAMP:20260421T153208
CREATED:20231123T180819Z
LAST-MODIFIED:20231123T181755Z
UID:8378-1701250200-1701255600@stadtmission-offenbach.de
SUMMARY:Morgengebet
DESCRIPTION:Herzliche Einladung zum Gebet. Immer mittwochs um 9:30 Uhr. Gebetsanliegen (Dank/Fürbitte) bitte bis dienstagabends an mich senden. \nVielen Dank\,\nGerda (gerdabruegge@gmail.com)
URL:https://stadtmission-offenbach.de/veranstaltung/morgengebet-2021-12-22-copy-3/
LOCATION:Stadtmission Offenbach e.V.\, Waldstr. 36\, 63065 Offenbach
CATEGORIES:Gebet und Lobpreis
ATTACH;FMTTYPE=image/jpeg:https://stadtmission-offenbach.de/wp-content/uploads/2021/09/holding-hands-752878_1920.jpg
END:VEVENT
BEGIN:VEVENT
DTSTART;TZID=Europe/Berlin:20250219T154500
DTEND;TZID=Europe/Berlin:20250219T163000
DTSTAMP:20260421T153208
CREATED:20250214T150128Z
LAST-MODIFIED:20250214T150128Z
UID:9076-1739979900-1739982600@stadtmission-offenbach.de
SUMMARY:Musik für Kids
DESCRIPTION:Wir wollen zusammen singen\, Instrumente ausprobieren\, kreativ sein und spielen. \nAltersgruppe 3-6 Jahre alt. \nDa die Plätze begrenzt sind\, bitte vorher anmelden.
URL:https://stadtmission-offenbach.de/veranstaltung/musik-fuer-kids-2024-04-24-2-2-2-2-2/
LOCATION:Stadtmission Offenbach e.V.\, Waldstr. 36\, 63065 Offenbach
CATEGORIES:Gruppe,Musik
ATTACH;FMTTYPE=image/jpeg:https://stadtmission-offenbach.de/wp-content/uploads/2024/01/pexels-karolina-grabowska-8909671-scaled.jpg
END:VEVENT
BEGIN:VEVENT
DTSTART;TZID=Europe/Berlin:20231129T180000
DTEND;TZID=Europe/Berlin:20231129T193000
DTSTAMP:20260421T153208
CREATED:20231123T181006Z
LAST-MODIFIED:20231123T181618Z
UID:8382-1701280800-1701286200@stadtmission-offenbach.de
SUMMARY:Blaues Kreuz Treffen
DESCRIPTION:Hier treffen sich suchtkranke Menschen in der Selbsthilfegruppe.
URL:https://stadtmission-offenbach.de/veranstaltung/blaues-kreuz-treffen-3/
LOCATION:Stadtmission Offenbach e.V.\, Waldstr. 36\, 63065 Offenbach
CATEGORIES:Gruppe
ATTACH;FMTTYPE=image/png:https://stadtmission-offenbach.de/wp-content/uploads/2021/09/hands-1939895_1920.png
END:VEVENT
BEGIN:VEVENT
DTSTART;TZID=Europe/Berlin:20241204T183000
DTEND;TZID=Europe/Berlin:20241204T200000
DTSTAMP:20260421T153208
CREATED:20241203T210918Z
LAST-MODIFIED:20241203T210919Z
UID:8925-1733337000-1733342400@stadtmission-offenbach.de
SUMMARY:Vokalensemble
DESCRIPTION:Erlebe den Klang der Gemeinschaft. Wachse mit anderen zusammen und über dich hinaus. \nRaum: Kleiner Saal (erste Tür links\, steht offen\, immer den Ohren nach)
URL:https://stadtmission-offenbach.de/veranstaltung/vokalensemble-2-2/
LOCATION:Stadtmission Offenbach e.V.\, Waldstr. 36\, 63065 Offenbach
ATTACH;FMTTYPE=image/png:https://stadtmission-offenbach.de/wp-content/uploads/2024/07/StaMi-Vocalensemble-e1721830467434.png
END:VEVENT
END:VCALENDAR